Package: decontam Version: 1.12.0 Command: rm -rf decontam.buildbin-libdir && mkdir decontam.buildbin-libdir && /Users/biocbuild/BBS/utils/build-universal.sh decontam_1.12.0.tar.gz /Library/Frameworks/R.framework/Versions/Current/Resources/bin/R decontam.buildbin-libdir StartedAt: 2021-10-15 02:09:00 -0400 (Fri, 15 Oct 2021) EndedAt: 2021-10-15 02:10:07 -0400 (Fri, 15 Oct 2021) EllapsedTime: 66.6 seconds RetCode: 0 Status: OK PackageFile: decontam_1.12.0.tgz PackageFileSize: 703.7 KiB