Package: decompTumor2Sig Version: 2.8.0 Command: /home/biocbuild/bbs-3.13-bioc/R/bin/R CMD INSTALL decompTumor2Sig StartedAt: 2021-10-14 06:29:20 -0400 (Thu, 14 Oct 2021) EndedAt: 2021-10-14 06:29:56 -0400 (Thu, 14 Oct 2021) EllapsedTime: 36.1 seconds RetCode: 0 Status: OK