Package: decompTumor2Sig Version: 2.8.0 Command: rm -rf decompTumor2Sig.buildbin-libdir && mkdir decompTumor2Sig.buildbin-libdir && /Users/biocbuild/BBS/utils/build-universal.sh decompTumor2Sig_2.8.0.tar.gz /Library/Frameworks/R.framework/Versions/Current/Resources/bin/R decompTumor2Sig.buildbin-libdir StartedAt: 2021-10-15 02:08:49 -0400 (Fri, 15 Oct 2021) EndedAt: 2021-10-15 02:09:56 -0400 (Fri, 15 Oct 2021) EllapsedTime: 66.7 seconds RetCode: 0 Status: OK PackageFile: decompTumor2Sig_2.8.0.tgz PackageFileSize: 2.604 MiB