Package: deco Version: 1.8.0 Command: rm -rf deco.buildbin-libdir && mkdir deco.buildbin-libdir && C:\Users\biocbuild\bbs-3.13-bioc\R\bin\R.exe CMD INSTALL --merge-multiarch --build --library=deco.buildbin-libdir deco_1.8.0.tar.gz StartedAt: 2021-10-15 08:53:04 -0400 (Fri, 15 Oct 2021) EndedAt: 2021-10-15 08:54:08 -0400 (Fri, 15 Oct 2021) EllapsedTime: 63.8 seconds RetCode: 0 Status: OK PackageFile: deco_1.8.0.zip PackageFileSize: 3.38 MiB