Package: dcGSA Version: 1.20.0 Command: /Library/Frameworks/R.framework/Versions/Current/Resources/bin/R CMD check --install=check:dcGSA.install-out.txt --library=/Library/Frameworks/R.framework/Versions/Current/Resources/library --no-vignettes --timings dcGSA_1.20.0.tar.gz StartedAt: 2021-10-14 18:05:49 -0400 (Thu, 14 Oct 2021) EndedAt: 2021-10-14 18:06:50 -0400 (Thu, 14 Oct 2021) EllapsedTime: 60.7 seconds RetCode: 0 Status: WARNINGS CheckDir: dcGSA.Rcheck Warnings: 1