git_url: https://git.bioconductor.org/packages/dasper git_branch: RELEASE_3_13 git_last_commit: 9bf018b git_last_commit_date: 2021-05-19 12:57:36 -0400 (Wed, 19 May 2021) Package: dasper Version: 1.2.0 Maintainer: David Zhang MaintainerEmail: david.zhang.12 at ucl.ac.uk