Package: dagLogo Version: 1.30.0 Command: /Library/Frameworks/R.framework/Versions/Current/Resources/bin/R CMD check --install=check:dagLogo.install-out.txt --library=/Library/Frameworks/R.framework/Versions/Current/Resources/library --no-vignettes --timings dagLogo_1.30.0.tar.gz StartedAt: 2021-10-14 18:02:44 -0400 (Thu, 14 Oct 2021) EndedAt: 2021-10-14 18:06:55 -0400 (Thu, 14 Oct 2021) EllapsedTime: 251.0 seconds RetCode: 0 Status: OK CheckDir: dagLogo.Rcheck Warnings: 0