Package: dagLogo Version: 1.30.0 Command: rm -rf dagLogo.buildbin-libdir && mkdir dagLogo.buildbin-libdir && /Users/biocbuild/BBS/utils/build-universal.sh dagLogo_1.30.0.tar.gz /Library/Frameworks/R.framework/Versions/Current/Resources/bin/R dagLogo.buildbin-libdir StartedAt: 2021-10-15 02:07:13 -0400 (Fri, 15 Oct 2021) EndedAt: 2021-10-15 02:08:01 -0400 (Fri, 15 Oct 2021) EllapsedTime: 47.9 seconds RetCode: 0 Status: OK PackageFile: dagLogo_1.30.0.tgz PackageFileSize: 3.152 MiB