Package: dada2 Version: 1.20.0 Command: rm -rf dada2.buildbin-libdir && mkdir dada2.buildbin-libdir && C:\Users\biocbuild\bbs-3.13-bioc\R\bin\R.exe CMD INSTALL --merge-multiarch --build --library=dada2.buildbin-libdir dada2_1.20.0.tar.gz StartedAt: 2021-10-15 08:50:49 -0400 (Fri, 15 Oct 2021) EndedAt: 2021-10-15 08:55:10 -0400 (Fri, 15 Oct 2021) EllapsedTime: 260.8 seconds RetCode: 0 Status: OK PackageFile: dada2_1.20.0.zip PackageFileSize: 3.886 MiB