Package: dada2 Version: 1.20.0 Command: /Library/Frameworks/R.framework/Versions/Current/Resources/bin/R CMD INSTALL dada2 StartedAt: 2021-10-14 09:10:01 -0400 (Thu, 14 Oct 2021) EndedAt: 2021-10-14 09:12:40 -0400 (Thu, 14 Oct 2021) EllapsedTime: 158.1 seconds RetCode: 0 Status: OK