Package: cummeRbund Version: 2.34.0 Command: C:\Users\biocbuild\bbs-3.13-bioc\R\bin\R.exe CMD check --force-multiarch --install=check:cummeRbund.install-out.txt --library=C:\Users\biocbuild\bbs-3.13-bioc\R\library --no-vignettes --timings cummeRbund_2.34.0.tar.gz StartedAt: 2021-10-14 21:46:16 -0400 (Thu, 14 Oct 2021) EndedAt: 2021-10-14 21:53:52 -0400 (Thu, 14 Oct 2021) EllapsedTime: 456.3 seconds RetCode: 0 Status: WARNINGS CheckDir: cummeRbund.Rcheck Warnings: 1