git_url: https://git.bioconductor.org/packages/ctgGEM git_branch: RELEASE_3_13 git_last_commit: 0e246e8 git_last_commit_date: 2021-05-19 12:49:38 -0400 (Wed, 19 May 2021) Package: ctgGEM Version: 1.4.0 Maintainer: USD Biomedical Engineering MaintainerEmail: bicbioeng at gmail.com