Package: ctc Version: 1.66.0 Command: C:\cygwin\bin\curl.exe -O http://155.52.207.165/BBS/3.13/bioc/src/contrib/ctc_1.66.0.tar.gz && rm -rf ctc.buildbin-libdir && mkdir ctc.buildbin-libdir && C:\Users\biocbuild\bbs-3.13-bioc\R\bin\R.exe CMD INSTALL --merge-multiarch --build --library=ctc.buildbin-libdir ctc_1.66.0.tar.gz && C:\Users\biocbuild\bbs-3.13-bioc\R\bin\R.exe CMD INSTALL ctc_1.66.0.zip && rm ctc_1.66.0.tar.gz ctc_1.66.0.zip StartedAt: 2021-10-14 06:48:28 -0400 (Thu, 14 Oct 2021) EndedAt: 2021-10-14 06:49:11 -0400 (Thu, 14 Oct 2021) EllapsedTime: 43.6 seconds RetCode: 0 Status: OK