Package: ctc Version: 1.66.0 Command: C:\Users\biocbuild\bbs-3.13-bioc\R\bin\R.exe CMD check --force-multiarch --install=check:ctc.install-out.txt --library=C:\Users\biocbuild\bbs-3.13-bioc\R\library --no-vignettes --timings ctc_1.66.0.tar.gz StartedAt: 2021-10-14 21:45:05 -0400 (Thu, 14 Oct 2021) EndedAt: 2021-10-14 21:45:41 -0400 (Thu, 14 Oct 2021) EllapsedTime: 36.3 seconds RetCode: 0 Status: OK CheckDir: ctc.Rcheck Warnings: 0