Package: ctc Version: 1.66.0 Command: /home/biocbuild/bbs-3.13-bioc/R/bin/R CMD INSTALL ctc StartedAt: 2021-10-14 06:01:56 -0400 (Thu, 14 Oct 2021) EndedAt: 2021-10-14 06:02:12 -0400 (Thu, 14 Oct 2021) EllapsedTime: 15.5 seconds RetCode: 0 Status: OK