Package: csaw Version: 1.26.0 Command: /Library/Frameworks/R.framework/Versions/Current/Resources/bin/R CMD INSTALL csaw StartedAt: 2021-10-14 09:15:04 -0400 (Thu, 14 Oct 2021) EndedAt: 2021-10-14 09:16:48 -0400 (Thu, 14 Oct 2021) EllapsedTime: 103.9 seconds RetCode: 0 Status: OK