Package: crossmeta Version: 1.18.0 Command: /Library/Frameworks/R.framework/Versions/Current/Resources/bin/R CMD INSTALL crossmeta StartedAt: 2021-10-14 10:26:15 -0400 (Thu, 14 Oct 2021) EndedAt: 2021-10-14 10:26:42 -0400 (Thu, 14 Oct 2021) EllapsedTime: 26.8 seconds RetCode: 0 Status: OK