Package: crossmeta Version: 1.18.0 Command: rm -rf crossmeta.buildbin-libdir && mkdir crossmeta.buildbin-libdir && /Users/biocbuild/BBS/utils/build-universal.sh crossmeta_1.18.0.tar.gz /Library/Frameworks/R.framework/Versions/Current/Resources/bin/R crossmeta.buildbin-libdir StartedAt: 2021-10-15 02:05:05 -0400 (Fri, 15 Oct 2021) EndedAt: 2021-10-15 02:06:09 -0400 (Fri, 15 Oct 2021) EllapsedTime: 64.3 seconds RetCode: 0 Status: OK PackageFile: crossmeta_1.18.0.tgz PackageFileSize: 2.769 MiB