Package: crlmm Version: 1.50.0 Command: /home/biocbuild/bbs-3.13-bioc/R/bin/R CMD check --install=check:crlmm.install-out.txt --library=/home/biocbuild/bbs-3.13-bioc/R/library --no-vignettes --timings crlmm_1.50.0.tar.gz StartedAt: 2021-10-14 09:25:44 -0400 (Thu, 14 Oct 2021) EndedAt: 2021-10-14 09:34:20 -0400 (Thu, 14 Oct 2021) EllapsedTime: 516.8 seconds RetCode: 0 Status: OK CheckDir: crlmm.Rcheck Warnings: 0