Package: crlmm Version: 1.50.0 Command: /Library/Frameworks/R.framework/Versions/Current/Resources/bin/R CMD build --keep-empty-dirs --no-resave-data crlmm StartedAt: 2021-10-14 11:30:02 -0400 (Thu, 14 Oct 2021) EndedAt: 2021-10-14 11:32:56 -0400 (Thu, 14 Oct 2021) EllapsedTime: 174.5 seconds RetCode: 0 Status: OK PackageFile: crlmm_1.50.0.tar.gz PackageFileSize: 4.194 MiB