Package: cqn Version: 1.38.0 Command: /Library/Frameworks/R.framework/Versions/Current/Resources/bin/R CMD build --keep-empty-dirs --no-resave-data cqn StartedAt: 2021-10-14 11:29:18 -0400 (Thu, 14 Oct 2021) EndedAt: 2021-10-14 11:29:42 -0400 (Thu, 14 Oct 2021) EllapsedTime: 24.5 seconds RetCode: 0 Status: OK PackageFile: cqn_1.38.0.tar.gz PackageFileSize: 821.5 KiB