git_url: https://git.bioconductor.org/packages/covEB git_branch: RELEASE_3_13 git_last_commit: 7598cd6 git_last_commit_date: 2021-05-19 12:21:00 -0400 (Wed, 19 May 2021) Package: covEB Version: 1.18.0 Maintainer: C. Pacini MaintainerEmail: clarepacini at gmail.com