Package: countsimQC Version: 1.10.0 Command: /home/biocbuild/bbs-3.13-bioc/R/bin/R CMD check --install=check:countsimQC.install-out.txt --library=/home/biocbuild/bbs-3.13-bioc/R/library --no-vignettes --timings countsimQC_1.10.0.tar.gz StartedAt: 2021-10-14 09:24:43 -0400 (Thu, 14 Oct 2021) EndedAt: 2021-10-14 09:33:41 -0400 (Thu, 14 Oct 2021) EllapsedTime: 538.3 seconds RetCode: 0 Status: OK CheckDir: countsimQC.Rcheck Warnings: 0