Package: cosmiq Version: 1.26.0 Command: /Library/Frameworks/R.framework/Versions/Current/Resources/bin/R CMD INSTALL cosmiq StartedAt: 2021-10-14 09:12:09 -0400 (Thu, 14 Oct 2021) EndedAt: 2021-10-14 09:13:04 -0400 (Thu, 14 Oct 2021) EllapsedTime: 54.6 seconds RetCode: 0 Status: OK