Package: coseq Version: 1.16.0 Command: chmod a+r coseq -R && C:\Users\biocbuild\bbs-3.13-bioc\R\bin\R.exe CMD build --keep-empty-dirs --no-resave-data coseq StartedAt: 2021-10-14 13:05:17 -0400 (Thu, 14 Oct 2021) EndedAt: 2021-10-14 13:10:42 -0400 (Thu, 14 Oct 2021) EllapsedTime: 324.3 seconds RetCode: 0 Status: OK PackageFile: coseq_1.16.0.tar.gz PackageFileSize: 1021 KiB