Package: copynumber Version: 1.32.0 Command: /Library/Frameworks/R.framework/Versions/Current/Resources/bin/R CMD INSTALL copynumber StartedAt: 2021-10-14 08:29:30 -0400 (Thu, 14 Oct 2021) EndedAt: 2021-10-14 08:30:15 -0400 (Thu, 14 Oct 2021) EllapsedTime: 45.8 seconds RetCode: 0 Status: OK