Package: copynumber Version: 1.32.0 Command: /Library/Frameworks/R.framework/Versions/Current/Resources/bin/R CMD check --install=check:copynumber.install-out.txt --library=/Library/Frameworks/R.framework/Versions/Current/Resources/library --no-vignettes --timings copynumber_1.32.0.tar.gz StartedAt: 2021-10-14 17:48:33 -0400 (Thu, 14 Oct 2021) EndedAt: 2021-10-14 17:51:15 -0400 (Thu, 14 Oct 2021) EllapsedTime: 162.3 seconds RetCode: 0 Status: OK CheckDir: copynumber.Rcheck Warnings: 0