Package: copa Version: 1.60.0 Command: rm -rf copa.buildbin-libdir && mkdir copa.buildbin-libdir && C:\Users\biocbuild\bbs-3.13-bioc\R\bin\R.exe CMD INSTALL --merge-multiarch --build --library=copa.buildbin-libdir copa_1.60.0.tar.gz StartedAt: 2021-10-15 08:44:15 -0400 (Fri, 15 Oct 2021) EndedAt: 2021-10-15 08:45:28 -0400 (Fri, 15 Oct 2021) EllapsedTime: 73.3 seconds RetCode: 0 Status: OK PackageFile: copa_1.60.0.zip PackageFileSize: 205.3 KiB