git_url: https://git.bioconductor.org/packages/copa git_branch: RELEASE_3_13 git_last_commit: 6eea48b git_last_commit_date: 2021-05-19 11:37:08 -0400 (Wed, 19 May 2021) Package: copa Version: 1.60.0 Maintainer: James W. MacDonald MaintainerEmail: jmacdon at u.washington.edu