Package: convert Version: 1.68.0 Command: C:\Users\biocbuild\bbs-3.13-bioc\R\bin\R.exe CMD check --force-multiarch --install=check:convert.install-out.txt --library=C:\Users\biocbuild\bbs-3.13-bioc\R\library --no-vignettes --timings convert_1.68.0.tar.gz StartedAt: 2021-10-14 21:34:13 -0400 (Thu, 14 Oct 2021) EndedAt: 2021-10-14 21:35:03 -0400 (Thu, 14 Oct 2021) EllapsedTime: 49.4 seconds RetCode: 0 Status: OK CheckDir: convert.Rcheck Warnings: 0