Package: convert Version: 1.68.0 Command: rm -rf convert.buildbin-libdir && mkdir convert.buildbin-libdir && /Users/biocbuild/BBS/utils/build-universal.sh convert_1.68.0.tar.gz /Library/Frameworks/R.framework/Versions/Current/Resources/bin/R convert.buildbin-libdir StartedAt: 2021-10-15 02:02:46 -0400 (Fri, 15 Oct 2021) EndedAt: 2021-10-15 02:03:40 -0400 (Fri, 15 Oct 2021) EllapsedTime: 53.1 seconds RetCode: 0 Status: OK PackageFile: convert_1.68.0.tgz PackageFileSize: 111.6 KiB