Package: contiBAIT Version: 1.20.0 Command: chmod a+r contiBAIT -R && C:\Users\biocbuild\bbs-3.13-bioc\R\bin\R.exe CMD build --keep-empty-dirs --no-resave-data contiBAIT StartedAt: 2021-10-14 13:02:28 -0400 (Thu, 14 Oct 2021) EndedAt: 2021-10-14 13:04:27 -0400 (Thu, 14 Oct 2021) EllapsedTime: 119.3 seconds RetCode: 0 Status: OK PackageFile: contiBAIT_1.20.0.tar.gz PackageFileSize: 3.811 MiB