Package: contiBAIT Version: 1.20.0 Command: rm -rf contiBAIT.buildbin-libdir && mkdir contiBAIT.buildbin-libdir && /Users/biocbuild/BBS/utils/build-universal.sh contiBAIT_1.20.0.tar.gz /Library/Frameworks/R.framework/Versions/Current/Resources/bin/R contiBAIT.buildbin-libdir StartedAt: 2021-10-15 02:02:36 -0400 (Fri, 15 Oct 2021) EndedAt: 2021-10-15 02:04:43 -0400 (Fri, 15 Oct 2021) EllapsedTime: 127.2 seconds RetCode: 0 Status: OK PackageFile: contiBAIT_1.20.0.tgz PackageFileSize: 4.394 MiB