Package: condiments Version: 1.0.0 Command: rm -rf condiments.buildbin-libdir && mkdir condiments.buildbin-libdir && /Users/biocbuild/BBS/utils/build-universal.sh condiments_1.0.0.tar.gz /Library/Frameworks/R.framework/Versions/Current/Resources/bin/R condiments.buildbin-libdir StartedAt: 2021-10-15 02:01:52 -0400 (Fri, 15 Oct 2021) EndedAt: 2021-10-15 02:02:57 -0400 (Fri, 15 Oct 2021) EllapsedTime: 64.8 seconds RetCode: 0 Status: OK PackageFile: condiments_1.0.0.tgz PackageFileSize: 2.024 MiB