git_url: https://git.bioconductor.org/packages/condiments git_branch: RELEASE_3_13 git_last_commit: f66736c git_last_commit_date: 2021-05-19 13:01:23 -0400 (Wed, 19 May 2021) Package: condiments Version: 1.0.0 Maintainer: Hector Roux de Bezieux MaintainerEmail: hector.rouxdebezieux at berkeley.edu