Package: conclus Version: 1.0.0 Command: rm -rf conclus.buildbin-libdir && mkdir conclus.buildbin-libdir && C:\Users\biocbuild\bbs-3.13-bioc\R\bin\R.exe CMD INSTALL --merge-multiarch --build --library=conclus.buildbin-libdir conclus_1.0.0.tar.gz StartedAt: 2021-10-15 08:42:40 -0400 (Fri, 15 Oct 2021) EndedAt: 2021-10-15 08:43:58 -0400 (Fri, 15 Oct 2021) EllapsedTime: 78.1 seconds RetCode: 0 Status: OK PackageFile: conclus_1.0.0.zip PackageFileSize: 1.688 MiB