Package: compartmap Version: 1.10.0 Command: chmod a+r compartmap -R && C:\Users\biocbuild\bbs-3.13-bioc\R\bin\R.exe CMD build --keep-empty-dirs --no-resave-data compartmap StartedAt: 2021-10-14 12:58:52 -0400 (Thu, 14 Oct 2021) EndedAt: 2021-10-14 13:01:17 -0400 (Thu, 14 Oct 2021) EllapsedTime: 144.9 seconds RetCode: 0 Status: OK PackageFile: compartmap_1.10.0.tar.gz PackageFileSize: 3.381 MiB