Package: coexnet Version: 1.14.0 Command: /Library/Frameworks/R.framework/Versions/Current/Resources/bin/R CMD check --install=check:coexnet.install-out.txt --library=/Library/Frameworks/R.framework/Versions/Current/Resources/library --no-vignettes --timings coexnet_1.14.0.tar.gz StartedAt: 2021-10-14 17:39:03 -0400 (Thu, 14 Oct 2021) EndedAt: 2021-10-14 17:43:05 -0400 (Thu, 14 Oct 2021) EllapsedTime: 241.4 seconds RetCode: 0 Status: OK CheckDir: coexnet.Rcheck Warnings: 0