Package: coexnet Version: 1.14.0 Command: /Library/Frameworks/R.framework/Versions/Current/Resources/bin/R CMD build --keep-empty-dirs --no-resave-data coexnet StartedAt: 2021-10-14 11:21:41 -0400 (Thu, 14 Oct 2021) EndedAt: 2021-10-14 11:22:33 -0400 (Thu, 14 Oct 2021) EllapsedTime: 52.3 seconds RetCode: 0 Status: OK PackageFile: coexnet_1.14.0.tar.gz PackageFileSize: 1.703 MiB