Package: codelink Version: 1.60.0 Command: rm -rf codelink.buildbin-libdir && mkdir codelink.buildbin-libdir && /Users/biocbuild/BBS/utils/build-universal.sh codelink_1.60.0.tar.gz /Library/Frameworks/R.framework/Versions/Current/Resources/bin/R codelink.buildbin-libdir StartedAt: 2021-10-15 02:00:17 -0400 (Fri, 15 Oct 2021) EndedAt: 2021-10-15 02:01:25 -0400 (Fri, 15 Oct 2021) EllapsedTime: 68.7 seconds RetCode: 0 Status: OK PackageFile: codelink_1.60.0.tgz PackageFileSize: 3.562 MiB