git_url: https://git.bioconductor.org/packages/codelink git_branch: RELEASE_3_13 git_last_commit: 73c3522 git_last_commit_date: 2021-05-19 11:36:49 -0400 (Wed, 19 May 2021) Package: codelink Version: 1.60.0 Maintainer: Diego Diez MaintainerEmail: diego10ruiz at gmail.com