Package: coRdon Version: 1.10.0 Command: /home/biocbuild/bbs-3.13-bioc/R/bin/R CMD check --install=check:coRdon.install-out.txt --library=/home/biocbuild/bbs-3.13-bioc/R/library --no-vignettes --timings coRdon_1.10.0.tar.gz StartedAt: 2021-10-14 09:23:33 -0400 (Thu, 14 Oct 2021) EndedAt: 2021-10-14 09:25:17 -0400 (Thu, 14 Oct 2021) EllapsedTime: 103.4 seconds RetCode: 0 Status: OK CheckDir: coRdon.Rcheck Warnings: 0