git_url: https://git.bioconductor.org/packages/coRdon git_branch: RELEASE_3_13 git_last_commit: 9387b5f git_last_commit_date: 2021-05-19 12:37:02 -0400 (Wed, 19 May 2021) Package: coRdon Version: 1.10.0 Maintainer: Anamaria Elek MaintainerEmail: anamariaelek at gmail.com