Package: cnvGSA Version: 1.36.0 Command: /Library/Frameworks/R.framework/Versions/Current/Resources/bin/R CMD build --keep-empty-dirs --no-resave-data cnvGSA StartedAt: 2021-10-14 11:20:46 -0400 (Thu, 14 Oct 2021) EndedAt: 2021-10-14 11:21:11 -0400 (Thu, 14 Oct 2021) EllapsedTime: 25.1 seconds RetCode: 0 Status: OK PackageFile: cnvGSA_1.36.0.tar.gz PackageFileSize: 277.5 KiB