Package: cmapR Version: 1.4.0 Command: rm -rf cmapR.buildbin-libdir && mkdir cmapR.buildbin-libdir && C:\Users\biocbuild\bbs-3.13-bioc\R\bin\R.exe CMD INSTALL --merge-multiarch --build --library=cmapR.buildbin-libdir cmapR_1.4.0.tar.gz StartedAt: 2021-10-15 08:37:47 -0400 (Fri, 15 Oct 2021) EndedAt: 2021-10-15 08:39:10 -0400 (Fri, 15 Oct 2021) EllapsedTime: 83.2 seconds RetCode: 0 Status: OK PackageFile: cmapR_1.4.0.zip PackageFileSize: 3.988 MiB