git_url: https://git.bioconductor.org/packages/clustifyr git_branch: RELEASE_3_13 git_last_commit: 7a53859 git_last_commit_date: 2021-05-19 12:49:30 -0400 (Wed, 19 May 2021) Package: clustifyr Version: 1.4.0 Maintainer: Rui Fu MaintainerEmail: raysinensis at gmail.com