Package: clusterSeq Version: 1.16.0 Command: rm -rf clusterSeq.buildbin-libdir && mkdir clusterSeq.buildbin-libdir && /Users/biocbuild/BBS/utils/build-universal.sh clusterSeq_1.16.0.tar.gz /Library/Frameworks/R.framework/Versions/Current/Resources/bin/R clusterSeq.buildbin-libdir StartedAt: 2021-10-15 01:58:13 -0400 (Fri, 15 Oct 2021) EndedAt: 2021-10-15 01:59:12 -0400 (Fri, 15 Oct 2021) EllapsedTime: 59.5 seconds RetCode: 0 Status: OK PackageFile: clusterSeq_1.16.0.tgz PackageFileSize: 1.028 MiB