Package: clustComp Version: 1.20.0 Command: /home/biocbuild/bbs-3.13-bioc/R/bin/R CMD build --keep-empty-dirs --no-resave-data clustComp StartedAt: 2021-10-14 06:58:18 -0400 (Thu, 14 Oct 2021) EndedAt: 2021-10-14 06:59:15 -0400 (Thu, 14 Oct 2021) EllapsedTime: 56.7 seconds RetCode: 0 Status: OK PackageFile: clustComp_1.20.0.tar.gz PackageFileSize: 828.9 KiB