Package: clustComp Version: 1.20.0 Command: /Library/Frameworks/R.framework/Versions/Current/Resources/bin/R CMD INSTALL clustComp StartedAt: 2021-10-14 08:09:39 -0400 (Thu, 14 Oct 2021) EndedAt: 2021-10-14 08:10:24 -0400 (Thu, 14 Oct 2021) EllapsedTime: 45.7 seconds RetCode: 0 Status: OK