Package: clustComp Version: 1.20.0 Command: /Library/Frameworks/R.framework/Versions/Current/Resources/bin/R CMD build --keep-empty-dirs --no-resave-data clustComp StartedAt: 2021-10-14 11:17:56 -0400 (Thu, 14 Oct 2021) EndedAt: 2021-10-14 11:19:15 -0400 (Thu, 14 Oct 2021) EllapsedTime: 79.9 seconds RetCode: 0 Status: OK PackageFile: clustComp_1.20.0.tar.gz PackageFileSize: 838 KiB